BEGIN:VCALENDAR
VERSION:2.0
PRODID:-//Dorfgemeinschaft Harle e. V. - ECPv6.15.20//NONSGML v1.0//EN
CALSCALE:GREGORIAN
METHOD:PUBLISH
X-WR-CALNAME:Dorfgemeinschaft Harle e. V.
X-ORIGINAL-URL:https://harle-hessen.de
X-WR-CALDESC:Veranstaltungen für Dorfgemeinschaft Harle e. V.
REFRESH-INTERVAL;VALUE=DURATION:PT1H
X-Robots-Tag:noindex
X-PUBLISHED-TTL:PT1H
BEGIN:VTIMEZONE
TZID:Europe/Berlin
BEGIN:DAYLIGHT
TZOFFSETFROM:+0100
TZOFFSETTO:+0200
TZNAME:CEST
DTSTART:20250330T010000
END:DAYLIGHT
BEGIN:STANDARD
TZOFFSETFROM:+0200
TZOFFSETTO:+0100
TZNAME:CET
DTSTART:20251026T010000
END:STANDARD
BEGIN:DAYLIGHT
TZOFFSETFROM:+0100
TZOFFSETTO:+0200
TZNAME:CEST
DTSTART:20260329T010000
END:DAYLIGHT
BEGIN:STANDARD
TZOFFSETFROM:+0200
TZOFFSETTO:+0100
TZNAME:CET
DTSTART:20261025T010000
END:STANDARD
BEGIN:DAYLIGHT
TZOFFSETFROM:+0100
TZOFFSETTO:+0200
TZNAME:CEST
DTSTART:20270328T010000
END:DAYLIGHT
BEGIN:STANDARD
TZOFFSETFROM:+0200
TZOFFSETTO:+0100
TZNAME:CET
DTSTART:20271031T010000
END:STANDARD
END:VTIMEZONE
BEGIN:VEVENT
DTSTART;TZID=Europe/Berlin:20260426T100000
DTEND;TZID=Europe/Berlin:20260426T113000
DTSTAMP:20260419T181944
CREATED:20260401T081957Z
LAST-MODIFIED:20260401T081957Z
UID:31188-1777197600-1777203000@harle-hessen.de
SUMMARY:Konfirmation
DESCRIPTION:
URL:https://harle-hessen.de/veranstaltung/konfirmation/
LOCATION:Bonifatiuskirche\, Obergasse 14\, Wabern - Harle\, 34590\, Deutschland
CATEGORIES:Evang. Kirchengemeinde Harle
ORGANIZER;CN="Kirchengemeinde Harle":MAILTO:Pfarramt.harle@ekkw.de
END:VEVENT
BEGIN:VEVENT
DTSTART;TZID=Europe/Berlin:20260501T100000
DTEND;TZID=Europe/Berlin:20260501T170000
DTSTAMP:20260419T181944
CREATED:20260417T173001Z
LAST-MODIFIED:20260417T173001Z
UID:31226-1777629600-1777654800@harle-hessen.de
SUMMARY:Mai-Feiertag der SPD auf dem Küllberg
DESCRIPTION:
URL:https://harle-hessen.de/veranstaltung/mai-feiertag-der-spd-auf-dem-kuellberg/
END:VEVENT
BEGIN:VEVENT
DTSTART;TZID=Europe/Berlin:20260514T110000
DTEND;TZID=Europe/Berlin:20260514T140000
DTSTAMP:20260419T181944
CREATED:20260401T082142Z
LAST-MODIFIED:20260401T082142Z
UID:31191-1778756400-1778767200@harle-hessen.de
SUMMARY:Himmelfahrtsgottesdienst
DESCRIPTION:Im Anschluss\, Kaffee und Kuchen\, Bratwürstchen vom Grill und kühle Getränke.
URL:https://harle-hessen.de/veranstaltung/himmelfahrtsgottesdienst/
LOCATION:Bonifatiuskirche\, Obergasse 14\, Wabern - Harle\, 34590\, Deutschland
CATEGORIES:Evang. Kirchengemeinde Harle
ORGANIZER;CN="Kirchengemeinde Harle":MAILTO:Pfarramt.harle@ekkw.de
END:VEVENT
BEGIN:VEVENT
DTSTART;TZID=Europe/Berlin:20260524T100000
DTEND;TZID=Europe/Berlin:20260524T130000
DTSTAMP:20260419T181944
CREATED:20260401T082409Z
LAST-MODIFIED:20260401T082409Z
UID:31194-1779616800-1779627600@harle-hessen.de
SUMMARY:Dorfpicknick
DESCRIPTION:Mit Pfingstgottesdienst und Abendmahl
URL:https://harle-hessen.de/veranstaltung/dorfpicknick/
LOCATION:DGH
CATEGORIES:Elternverein,Evang. Kirchengemeinde Harle
END:VEVENT
BEGIN:VEVENT
DTSTART;TZID=Europe/Berlin:20260621T110000
DTEND;TZID=Europe/Berlin:20260621T130000
DTSTAMP:20260419T181944
CREATED:20260401T082535Z
LAST-MODIFIED:20260401T082535Z
UID:31197-1782039600-1782046800@harle-hessen.de
SUMMARY:Familiengottesdienst
DESCRIPTION:Mit Tauferinnerungsfest\, Bratwürstchen und Kuchen
URL:https://harle-hessen.de/veranstaltung/familiengottesdienst-2/
LOCATION:Bonifatiuskirche\, Obergasse 14\, Wabern - Harle\, 34590\, Deutschland
CATEGORIES:Evang. Kirchengemeinde Harle
ORGANIZER;CN="Kirchengemeinde Harle":MAILTO:Pfarramt.harle@ekkw.de
END:VEVENT
BEGIN:VEVENT
DTSTART;TZID=Europe/Berlin:20260624T190000
DTEND;TZID=Europe/Berlin:20260624T200000
DTSTAMP:20260419T181944
CREATED:20260401T082729Z
LAST-MODIFIED:20260401T082729Z
UID:31200-1782327600-1782331200@harle-hessen.de
SUMMARY:Segnungsandacht
DESCRIPTION:
URL:https://harle-hessen.de/veranstaltung/segnungsandacht/
LOCATION:Bonifatiuskirche\, Obergasse 14\, Wabern - Harle\, 34590\, Deutschland
CATEGORIES:Evang. Kirchengemeinde Harle
ORGANIZER;CN="Kirchengemeinde Harle":MAILTO:Pfarramt.harle@ekkw.de
END:VEVENT
BEGIN:VEVENT
DTSTART;TZID=Europe/Berlin:20260703T180000
DTEND;TZID=Europe/Berlin:20260704T170000
DTSTAMP:20260419T181944
CREATED:20260401T083005Z
LAST-MODIFIED:20260401T083005Z
UID:31203-1783101600-1783184400@harle-hessen.de
SUMMARY:Jubiläum 75 Jahre Anglerverein Harle
DESCRIPTION:Freitag Festkommers \nSamstag Gottesdienst und Musik
URL:https://harle-hessen.de/veranstaltung/jubilaeum-75-jahre-anglerverein-harle/
LOCATION:Anglerheim\, Mühlenweg am Sportplatz\, Wabern - Harle\, 34590\, Deutschland
CATEGORIES:Anglerverein Harle
END:VEVENT
BEGIN:VEVENT
DTSTART;TZID=Europe/Berlin:20260719T093000
DTEND;TZID=Europe/Berlin:20260719T103000
DTSTAMP:20260419T181944
CREATED:20260401T083042Z
LAST-MODIFIED:20260401T083042Z
UID:31206-1784453400-1784457000@harle-hessen.de
SUMMARY:Gottesdienst
DESCRIPTION:
URL:https://harle-hessen.de/veranstaltung/gottesdienst-6/
LOCATION:Bonifatiuskirche\, Obergasse 14\, Wabern - Harle\, 34590\, Deutschland
CATEGORIES:Evang. Kirchengemeinde Harle
ORGANIZER;CN="Kirchengemeinde Harle":MAILTO:Pfarramt.harle@ekkw.de
END:VEVENT
BEGIN:VEVENT
DTSTART;TZID=Europe/Berlin:20260802T093000
DTEND;TZID=Europe/Berlin:20260802T103000
DTSTAMP:20260419T181944
CREATED:20260401T083120Z
LAST-MODIFIED:20260401T083120Z
UID:31209-1785663000-1785666600@harle-hessen.de
SUMMARY:Gottesdienst
DESCRIPTION:
URL:https://harle-hessen.de/veranstaltung/gottesdienst-7/
LOCATION:Bonifatiuskirche\, Obergasse 14\, Wabern - Harle\, 34590\, Deutschland
CATEGORIES:Evang. Kirchengemeinde Harle
ORGANIZER;CN="Kirchengemeinde Harle":MAILTO:Pfarramt.harle@ekkw.de
END:VEVENT
BEGIN:VEVENT
DTSTART;TZID=Europe/Berlin:20260816T093000
DTEND;TZID=Europe/Berlin:20260816T103000
DTSTAMP:20260419T181944
CREATED:20260401T083257Z
LAST-MODIFIED:20260401T083257Z
UID:31212-1786872600-1786876200@harle-hessen.de
SUMMARY:Gottesdienst
DESCRIPTION:
URL:https://harle-hessen.de/veranstaltung/gottesdienst-8/
LOCATION:Bonifatiuskirche\, Obergasse 14\, Wabern - Harle\, 34590\, Deutschland
CATEGORIES:Evang. Kirchengemeinde Harle
ORGANIZER;CN="Kirchengemeinde Harle":MAILTO:Pfarramt.harle@ekkw.de
END:VEVENT
BEGIN:VEVENT
DTSTART;TZID=Europe/Berlin:20260906T093000
DTEND;TZID=Europe/Berlin:20260906T103000
DTSTAMP:20260419T181944
CREATED:20260401T083340Z
LAST-MODIFIED:20260401T083340Z
UID:31215-1788687000-1788690600@harle-hessen.de
SUMMARY:Gottesdienst
DESCRIPTION:
URL:https://harle-hessen.de/veranstaltung/gottesdienst-9/
LOCATION:Bonifatiuskirche\, Obergasse 14\, Wabern - Harle\, 34590\, Deutschland
CATEGORIES:Evang. Kirchengemeinde Harle
ORGANIZER;CN="Kirchengemeinde Harle":MAILTO:Pfarramt.harle@ekkw.de
END:VEVENT
BEGIN:VEVENT
DTSTART;TZID=Europe/Berlin:20260920T093000
DTEND;TZID=Europe/Berlin:20260920T103000
DTSTAMP:20260419T181944
CREATED:20260401T083417Z
LAST-MODIFIED:20260401T083417Z
UID:31218-1789896600-1789900200@harle-hessen.de
SUMMARY:Gottesdienst
DESCRIPTION:
URL:https://harle-hessen.de/veranstaltung/gottesdienst-10/
LOCATION:Bonifatiuskirche\, Obergasse 14\, Wabern - Harle\, 34590\, Deutschland
CATEGORIES:Evang. Kirchengemeinde Harle
ORGANIZER;CN="Kirchengemeinde Harle":MAILTO:Pfarramt.harle@ekkw.de
END:VEVENT
END:VCALENDAR